BEGIN:VCALENDAR
VERSION:2.0
PRODID:spatie/icalendar-generator
DESCRIPTION:Events from North Heidelberg Township
X-WR-CALDESC:Events from North Heidelberg Township
REFRESH-INTERVAL;VALUE=DURATION:PT1440M
X-PUBLISHED-TTL:PT1440M
BEGIN:VTIMEZONE
TZID:America/New_York
BEGIN:STANDARD
DTSTART:20231105T020000Z
TZOFFSETFROM:-0400
TZOFFSETTO:-0500
END:STANDARD
BEGIN:DAYLIGHT
DTSTART:20240310T020000Z
TZOFFSETFROM:-0500
TZOFFSETTO:-0400
END:DAYLIGHT
BEGIN:STANDARD
DTSTART:20241103T020000Z
TZOFFSETFROM:-0400
TZOFFSETTO:-0500
END:STANDARD
END:VTIMEZONE
BEGIN:VTIMEZONE
TZID:UTC
BEGIN:STANDARD
DTSTART:20250726T001707Z
TZOFFSETFROM:+0000
TZOFFSETTO:+0000
END:STANDARD
END:VTIMEZONE
BEGIN:VEVENT
UID:45-44
DTSTAMP:20260422T001707Z
SUMMARY:PC Meeting
LOCATION:
ORGANIZER;CN=North Heidelberg:MAILTO:nheidelbergtwp@comcast.net
DTSTART;TZID=America/New_York:20240620T190000
DTEND;TZID=America/New_York:20240620T200000
X-ALT-DESC;FMTTYPE=TEXT/HTML:
CATEGORIES:Planning Commission
URL;VALUE=URI:https://northheidelbergtwp.org/calendar/?mc_id=45&#038;vcal=4
 5
METHOD:PUBLISH
END:VEVENT
END:VCALENDAR